BEGIN:VCALENDAR
VERSION:2.0
PRODID:-//wp-events-plugin.com//7.2.3.1//EN
BEGIN:VEVENT
UID:10@aagus.org
DTSTART;VALUE=DATE:20230315
DTEND;VALUE=DATE:20230319
DTSTAMP:20230321T191821Z
URL:https://www.aagus.org/events/2023-aagus-annual-event/
SUMMARY:2023 AAGUS Annual Event
DESCRIPTION:Omni Amelia Island Resort in Amelia Island\, FL.
ATTACH;FMTTYPE=image/jpeg:https://www.aagus.org/wp-content/uploads/2022/04
 /aiprst-omni-amelia-island-resort-pool-3.jpg
CATEGORIES:Annual Meeting
LOCATION:Omni Amelia Island Resort\, 39 Beach Lagoon Road\, Fernandina Beac
 h\, FL\, 32034\, United States
GEO:30.5548966;-81.4445022
X-APPLE-STRUCTURED-LOCATION;VALUE=URI;X-ADDRESS=39 Beach Lagoon Road\, Fern
 andina Beach\, FL\, 32034\, United States;X-APPLE-RADIUS=100;X-TITLE=Omni 
 Amelia Island Resort:geo:30.5548966,-81.4445022
END:VEVENT
END:VCALENDAR